BEGIN:VCALENDAR
VERSION:2.0
PRODID:-//eventon.com NONSGML v1.0//EN
CALSCALE:GREGORIAN
METHOD:PUBLISH
BEGIN:VEVENT
UID:69e8f7a0efdea
DTSTAMP:20260422T163024Z
DTSTART:20260403T080000Z
DTEND:20260404T160000Z
LOCATION:Voshaar Outdoor &amp; Education Winterswijkseweg 17
SUMMARY:IGA Interpretive guide
DESCRIPTION:\nhttps://voshaaroutdoor.com/events/iga-interpretive-guide-2/
URL:https://voshaaroutdoor.com/events/iga-interpretive-guide-2/
END:VEVENT
END:VCALENDAR