BEGIN:VCALENDAR
VERSION:2.0
PRODID:-//eventon.com NONSGML v1.0//EN
CALSCALE:GREGORIAN
METHOD:PUBLISH
BEGIN:VEVENT
UID:69e8fedfbe389
DTSTAMP:20260422T170119Z
DTSTART:20260704T083000Z
DTEND:20260705T130000Z
LOCATION:Voshaar Outdoor &amp; Education Winterswijkseweg 17
SUMMARY:Plant Medicine
DESCRIPTION:\nhttps://voshaaroutdoor.com/events/plant-medicine-3/
URL:https://voshaaroutdoor.com/events/plant-medicine-3/
END:VEVENT
END:VCALENDAR