BEGIN:VCALENDAR
VERSION:2.0
PRODID:-//eventon.com NONSGML v1.0//EN
CALSCALE:GREGORIAN
METHOD:PUBLISH
BEGIN:VEVENT
UID:69e8fab970d17
DTSTAMP:20260422T164337Z
DTSTART:20260626T170000Z
DTEND:20260628T130000Z
LOCATION:
SUMMARY:HEATSTROKE\,  outdoor-wilderness meeting
DESCRIPTION:\nhttps://voshaaroutdoor.com/events/heatstroke-outdoor-wilderne
 ss-meeting-2/
URL:https://voshaaroutdoor.com/events/heatstroke-outdoor-wilderness-meeting-2/
END:VEVENT
END:VCALENDAR