BEGIN:VCALENDAR
VERSION:2.0
PRODID:-//eventon.com NONSGML v1.0//EN
CALSCALE:GREGORIAN
METHOD:PUBLISH
BEGIN:VEVENT
UID:69e8fc87a5287
DTSTAMP:20260422T165119Z
DTSTART:20260418T110000Z
DTEND:20260422T110000Z
LOCATION:
SUMMARY:Extremadura vogelreis
DESCRIPTION:\nhttps://voshaaroutdoor.com/events/extremadura-vogelreis/
URL:https://voshaaroutdoor.com/events/extremadura-vogelreis/
END:VEVENT
END:VCALENDAR